Workbook

Sheet Instructions
A1: INSTRUCTIONS FOR USING SUGGESTED ORDER WORKSHEET
A3: 1. Enter your troop number in the Green Cell A2
A5: 2. In the 2026 Section the following information will populate: Total Cases ordered by variety in 2026 Service Unit Name Number of Girls Total Packages sold by troop in 2025 including Cookie Share and Ship Only | K5: REMEMBER, THIS IS A SUGGESTED ORDER ONLY BASED ON YOUR TROOP SALES IN 2026.
K9: Once you have completed your worksheet, you can print a copy by following steps at the bottom of the page. When you are ready to enter your order in Smart Cookies, go to www.abcsmartcookies.com and click Orders>Troop Initial Order. Your order must be entered into Smart Cookies on or before December 8, 2026.
A10: 3. In the suggested order section, total cases by variety will populate based on a suggested order of 80% of total sold in 2026.
A14: 4. In the Troop Adjustment Section you can add a different percentage for your intial order. Enter the percentage desired.
K15: Watch this video on entering an order: | O15: https://www.youtube.com/watch?v=tFZsIGTokI4
A19: 5. In the Troop Adjustment Section - PGA you can change your suggested order by number of girls selling. For instance, if you had 7 girls selling in 2026 but only 6 selling in 2027, enter the new number of girls selling in the box and the new order will calculate. If you enter 1 - 2 girls selling the numbers may display as negative numbers.

Sheet Orders
A4: TROOP | B4: 2026 Totals
A5: 15 | C5: Service Unit | D5: =VLOOKUP(A5,Sheet1!A1:Q185,2) -> SU 631 | E5: Girls Selling | F5: =VLOOKUP($A$5,Sheet1!$A$1:$Q$185,3) -> 16 | G5: 2026 Total Packages including Cookie Share and Direct ship | K5: =VLOOKUP($A$5,Sheet1!$A$1:$Q$185,5) -> 6708
L6: TOTAL CASES
C7: ADV | D7: TY | E7: LEM | F7: TRE | G7: TM | H7: PBP | I7: CDL | J7: PBS
C8: =VLOOKUP($A$5,Sheet1!$A1:$Q$189,7) -> 38 | D8: =VLOOKUP($A$5,Sheet1!$A1:$Q$189,8) -> 45 | E8: =VLOOKUP($A$5,Sheet1!$A1:$Q$189,9) -> 42 | F8: =VLOOKUP($A$5,Sheet1!$A1:$Q$189,10) -> 46 | G8: =VLOOKUP($A$5,Sheet1!$A1:$Q$189,11) -> 139 | H8: =VLOOKUP($A$5,Sheet1!$A1:$Q$189,12) -> 75 | I8: =VLOOKUP($A$5,Sheet1!$A1:$Q$189,13) -> 77 | J8: =VLOOKUP($A$5,Sheet1!$A1:$Q$189,14) -> 44 | L8: =SUM(C8:K8) -> 506
C9: =C8/$L$8 -> 0.075098814 | D9: =D8/$L$8 -> 0.088932806 | E9: =E8/$L$8 -> 0.083003953 | F9: =F8/$L$8 -> 0.090909091 | G9: =G8/$L$8 -> 0.27470356 | H9: =H8/$L$8 -> 0.14822134 | I9: =I8/$L$8 -> 0.15217391 | J9: =J8/$L$8 -> 0.086956522
A10: PGA - all sales | C10: =K5/F5 -> 419.25 | E10: PGA - in person sales | G10: =((C8+D8+E8+F8+G8+H8+I8+J8+K8)*12)/F5 -> 379.5
A13: 2027 Suggested Order | G13: Total Packages based on suggested order | K13: =SUM(C16:K16)*12 -> 4872
L14: TOTAL CASES
A15: Based on 80% of 2025 | C15: ADV | D15: EXP | E15: LEM | F15: TRE | G15: TM | H15: PBP | I15: CDL | J15: PBS
C16: =ROUND(C8*0.8,0) -> 30 | D16: =ROUND(D8*0.8,0) -> 36 | E16: =ROUND(E8*0.8,0) -> 34 | F16: =ROUND(F8*0.8,0) -> 37 | G16: =ROUND(G8*0.8,0) -> 111 | H16: =ROUNDUP(H8*0.8,0) -> 60 | I16: =ROUNDUP(I8*0.8,0) -> 62 | J16: =ROUNDUP(J8*0.8,0) -> 36 | L16: =SUM(C16:K16) -> 406
C17: =C16/$L$16 -> 0.073891626 | D17: =D16/$L$16 -> 0.088669951 | E17: =E16/$L$16 -> 0.083743842 | F17: =F16/$L$16 -> 0.091133005 | G17: =G16/$L$16 -> 0.27339901 | H17: =H16/$L$16 -> 0.14778325 | I17: =I16/$L$16 -> 0.15270936 | J17: =J16/$L$16 -> 0.088669951
B20: 2027 Troop Adjustment - percentage | G20: Total Packages based on adjusted order | K20: =SUM(C23:K23)*12 -> 3012
A21: Percentage desired | L21: TOTAL CASES
A22: 0.5 | C22: ADV | D22: EXP | E22: LEM | F22: TRE | G22: TM | H22: PBP | I22: CDL | J22: PBS
C23: =ROUNDUP(C8*$A$22,0)-1 -> 18 | D23: =ROUNDUP(D8*$A$22,0)+1 -> 24 | E23: =ROUNDDOWN(E8*$A$22,0) -> 21 | F23: =ROUNDUP(F8*$A$22,0) -> 23 | G23: =ROUNDUP(G8*$A$22,0)-2 -> 68 | H23: =ROUNDUP(H8*$A$22,0)-1 -> 37 | I23: =ROUNDUP(I8*$A$22,0)-1 -> 38 | J23: =ROUNDUP(J8*$A$22,0) -> 22 | L23: =SUM(C23:K23) -> 251
C24: =C23/$L$23 -> 0.071713147 | D24: =D23/$L$23 -> 0.09561753 | E24: =E23/$L$23 -> 0.083665339 | F24: =F23/$L$23 -> 0.091633466 | G24: =G23/$L$23 -> 0.27091633 | H24: =H23/$L$23 -> 0.14741036 | I24: =I23/$L$23 -> 0.15139442 | J24: =J23/$L$23 -> 0.087649402
B26: 2027 Troop Adjustment - PGA
L27: TOTAL CASES
C28: ADV | D28: EXP | E28: LEM | F28: TRE | G28: TM | H28: PBP | I28: CDL | J28: PBS
C29: =(((($G$10*$A$31)*C17)/12)*0.68)-1 -> 16.479433 | D29: =(((($G$10*$A$31)*D17)/12)*0.68)-1 -> 19.97532 | E29: =(((($G$10*$A$31)*E17)/12)*0.68)-1 -> 18.810025 | F29: =(((($G$10*$A$31)*F17)/12)*0.68)-1 -> 20.557968 | G29: =(((($G$10*$A$31)*G17)/12)*0.68)-2 -> 62.673904 | H29: =(((($G$10*$A$31)*H17)/12)*0.68)-1 -> 33.958867 | I29: =(((($G$10*$A$31)*I17)/12)*0.68)-1 -> 35.124163 | J29: =(((($G$10*$A$31)*J17)/12)*0.68) -> 20.97532 | L29: =SUM(C29:K29) -> 228.555
A30: 2027 Girls Selling | C30: =C29/$L$29 -> 0.072102704 | D30: =D29/$L$29 -> 0.087398308 | E30: =E29/$L$29 -> 0.082299773 | F30: =F29/$L$29 -> 0.089947575 | G30: =G29/$L$29 -> 0.27421804 | H30: =H29/$L$29 -> 0.14858072 | I30: =I29/$L$29 -> 0.15367926 | J30: =J29/$L$29 -> 0.091773622
A31: 11
A33: TO PRINT A COPY OF THIS WORKSHEET - GO TO FILE>SAVE AS. SELECT A FOLDER, NAME THE FILE AND SAVE AS A PDF FORMAT

Sheet Sheet1
A1: TroopDesc | B1: ServiceUnitDesc | C1: GirlSell | D1: GirlReg | E1: CondensedTotal | F1: Total | G1: ADV | H1: EXP | I1: LEM | J1: TRE | K1: TM | L1: PBP | M1: CD | N1: PBS
A2: 15 | B2: SU 631 | C2: 16 | D2: 17 | E2: 6708 | F2: 513 | G2: 38 | H2: 45 | I2: 42 | J2: 46 | K2: 139 | L2: 75 | M2: 77 | N2: 44
A3: 25 | B3: SU 638 | C3: 24 | D3: 28 | E3: 44326 | F3: 3573 | G3: 279 | H3: 296 | I3: 290 | J3: 277 | K3: 838 | L3: 542 | M3: 678 | N3: 320
A4: 32 | B4: SU 646 | C4: 17 | D4: 18 | E4: 6748 | F4: 551 | G4: 39 | H4: 50 | I4: 64 | J4: 61 | K4: 94 | L4: 70 | M4: 91 | N4: 70
A5: 37 | B5: SU 657 | C5: 6 | D5: 7 | E5: 4296 | F5: 346 | G5: 26 | H5: 19 | I5: 40 | J5: 51 | K5: 77 | L5: 32 | M5: 60 | N5: 35
A6: 48 | B6: SU 657 | C6: 6 | D6: 11 | E6: 6196 | F6: 501 | G6: 38 | H6: 47 | I6: 44 | J6: 39 | K6: 119 | L6: 74 | M6: 88 | N6: 42
A7: 50 | B7: SU 639 | C7: 20 | D7: 24 | E7: 5967 | F7: 464 | G7: 39 | H7: 48 | I7: 34 | J7: 35 | K7: 109 | L7: 74 | M7: 74 | N7: 41
A8: 79 | B8: SU 643 | C8: 4 | D8: 4 | E8: 4300 | F8: 358 | G8: 15 | H8: 18 | I8: 61 | J8: 71 | K8: 44 | L8: 23 | M8: 53 | N8: 73
A9: 84 | B9: SU 639 | C9: 9 | D9: 11 | E9: 3066 | F9: 244 | G9: 24 | H9: 22 | I9: 23 | J9: 22 | K9: 50 | L9: 38 | M9: 40 | N9: 22
A10: 88 | B10: SU 652 | C10: 7 | D10: 7 | E10: 1608 | F10: 134 | G10: 14 | H10: 14 | I10: 15 | J10: 14 | K10: 21 | L10: 19 | M10: 20 | N10: 15
A11: 119 | B11: SU 651 | C11: 11 | D11: 11 | E11: 1972 | F11: 159 | G11: 9 | H11: 10 | I11: 22 | J11: 24 | K11: 22 | L11: 16 | M11: 22 | N11: 28
A12: 125 | B12: SU 643 | C12: 5 | D12: 5 | E12: 978 | F12: 83 | G12: 4 | H12: 4 | I12: 13 | J12: 14 | K12: 10 | L12: 3 | M12: 10 | N12: 23
A13: 128 | B13: SU 657 | C13: 7 | D13: 8 | E13: 3781 | F13: 310 | G13: 20 | H13: 18 | I13: 31 | J13: 51 | K13: 62 | L13: 33 | M13: 50 | N13: 39
... A183: 126209306 | B183: SU 643 | C183: 1 | D183: 1 | E183: 267 | F183: 13 | G183: 0 | H183: 1 | I183: 2 | J183: 1 | K183: 3 | L183: 3 | M183: 1 | N183: 1
